BEGIN:VCALENDAR
VERSION:2.0
PRODID:-//wp-events-plugin.com//6.6.4.4//EN
BEGIN:VEVENT
UID:29@bbknk.nl
DTSTART:20230513T083000Z
DTEND:20230513T143000Z
DTSTAMP:20230319T104941Z
URL:https://bbknk.nl/events/studiedag-a-orkest/
SUMMARY:Studiedag A-Orkest
DESCRIPTION:Ter voorbereiding op DOBC\n09:30 - 15:30 uur.
CATEGORIES:A-Orkest
END:VEVENT
END:VCALENDAR